BEGIN:VCALENDAR
VERSION:2.0
PRODID:-//HET NETEPALEIS te Kessel - ECPv6.8.3//NONSGML v1.0//EN
CALSCALE:GREGORIAN
METHOD:PUBLISH
X-WR-CALNAME:HET NETEPALEIS te Kessel
X-ORIGINAL-URL:https://amazonemmm.be/hetnetepaleis
X-WR-CALDESC:Evenementen voor HET NETEPALEIS te Kessel
REFRESH-INTERVAL;VALUE=DURATION:PT1H
X-Robots-Tag:noindex
X-PUBLISHED-TTL:PT1H
BEGIN:VTIMEZONE
TZID:Europe/Brussels
BEGIN:DAYLIGHT
TZOFFSETFROM:+0100
TZOFFSETTO:+0200
TZNAME:CEST
DTSTART:20250330T010000
END:DAYLIGHT
BEGIN:STANDARD
TZOFFSETFROM:+0200
TZOFFSETTO:+0100
TZNAME:CET
DTSTART:20251026T010000
END:STANDARD
BEGIN:DAYLIGHT
TZOFFSETFROM:+0100
TZOFFSETTO:+0200
TZNAME:CEST
DTSTART:20260329T010000
END:DAYLIGHT
BEGIN:STANDARD
TZOFFSETFROM:+0200
TZOFFSETTO:+0100
TZNAME:CET
DTSTART:20261025T010000
END:STANDARD
END:VTIMEZONE
BEGIN:VEVENT
DTSTART;TZID=Europe/Brussels:20260407T080000
DTEND;TZID=Europe/Brussels:20260416T170000
DTSTAMP:20260424T060824
CREATED:20251204T201727Z
LAST-MODIFIED:20260407T220638Z
UID:17350-1775548800-1776358800@amazonemmm.be
SUMMARY:Kampjes Paasvakantie volgeboekt
DESCRIPTION:VOORJAAR 2026 voor kinderen tussen 3\,5 en 11 jaar!  Volgeboekt \n\n1  “Hokus Pokus met de natuur” 3\,5-6 en 7-11 jaar Kleine en grote ontdekkingen terwijl we bloemen zaaien\, grond bewerken\, dieren spotten\, konijntjes knuffelen…Grotere kinderen spelen ook naar hartelust\, verzorgen ook dieren\, bouwen kampen\, zingen liedjes\, alles naar wens! We maken er een heel gezellig kampje van in een paar kleine groepjes! \nVerder ook:\n– Bij praktische info kan je alle info 3 dagen vooraf vinden!\n– Alvast in de rugzak: Brooddoos\, drinkbus en 2 gezonde tussendoortjes en in een doos apart: reservekledij ook voor alle nat\, warm en koud weer!\n– Begeleiding: Hilde Frateur onthaalt de kinderen steeds met muziek en volgt alle groepjes op\, naargelang welk kampje zijn er soms wissels van samenstelling van groepjes en als extra volwassene zijn er ook andere hele lieve begeleidsters zoals Ushi\, Sarah en/of Katleen die al jaren ervaringen hebben. Jongere begeleiders/sters die vroeger zelf kampjes volgden in Het Netepaleis helpen ook bij kleuters. Zij weten immers al te goed wat kindjes leuk vinden op kamp! \n– Vriendjes maken en zorgen voor elkaar is steeds een troef! Schrijf je voor meerdere kinderen in? Dan noteer je hun naam en leeftijd bij opmerkingen!\n– Als in een grote familie! Vriendjes mogen altijd in eenzelfde groepje zitten. Ook bij de start kan grote broer of zus gerust bij kleuter in een groepje blijven! Alles naar hun wens! Naargelang de keuze activiteiten kunnen grote kinderen ook met kleinere kinderen in een groepje zitten. Kleintjes kunnen doorgaans niet meedoen in de oudste groep. Tijdens de pauzes is iedereen samen! \n– Fiscaal attest krijg je tijdens het kampje mee!\n– Attest voor financiele tegemoetkoming vanuit je Ziekenfonds breng je mee en laat het afstempelen aan het onthaal \nOnderaan opzij de ticket kan je verder scrollen naar alle zomerkampjes!
URL:https://amazonemmm.be/hetnetepaleis/event/kampjes-paasvakantie/
END:VEVENT
BEGIN:VEVENT
DTSTART;TZID=Europe/Brussels:20251201T093000
DTEND;TZID=Europe/Brussels:20251201T160000
DTSTAMP:20260424T060824
CREATED:20251201T225117Z
LAST-MODIFIED:20260102T082611Z
UID:17310-1764581400-1764604800@amazonemmm.be
SUMMARY:DIEREN IN DE WINTER... een gezellig CROCUS kampje!
DESCRIPTION:Di 17-woe 18-do 19 februari “Dieren in de winter” crocuskampje” 5-12 jaar\nStart kampje 10u00-einde 16u00 met opvang inbegrepen tot 16u30. Extra opvang in ochtend mogelijk. Zie hieronder bij tickets.(uitzonderlijk voor de winterperiode)\nDieren in de winter” dieren staan centraal! We zoeken dierensporen op het veld\, misschien wel in de sneeuw! \nWe knuffelen konijntjes of cavia’s en kijken vanuit ons kampje hoe de reetjes \, de pauwen\, de schapen en andere dieren de winter overleven. Kunnen we hen helpen? Wij stoken een vuurtje en maken het gezellig in het muzieksalon of de binnentuin. We halen brood op de hoeve van Iona en maken ook verse soep!\nWe doen spelletjes\, zingen\, dansen\, knutselen\, tekenen\, verkleden ons\, alles naar wens en keuze van de kinderen! Hilde Frateur kan je ook enkele deuntjes op mondharmonica aanleren als je dat graag wil!  Heb je er geen? Wij hebben 10 instrumentjes met goede klank voorzien. Om hygienische reden kunen die niet uitgeleend worden maar kan je er eentje bestellen. Toonaard in C en 10 holen\, ideaal voor enkele leuke liedjes!\nMee te brengen: rugzakje\, brooddoos\, drinkbus\, warme kledij en extra botinnen of waterdicht schoeisel en warme kouden\, handschoenen\, muts\, sjaal…
URL:https://amazonemmm.be/hetnetepaleis/event/dieren-in-de-winter-een-gezellig-crocuskampje/
END:VEVENT
BEGIN:VEVENT
DTSTART;TZID=Europe/Brussels:20250922T080000
DTEND;TZID=Europe/Brussels:20251030T170000
DTSTAMP:20260424T060824
CREATED:20250919T075319Z
LAST-MODIFIED:20251029T205307Z
UID:17113-1758528000-1761843600@amazonemmm.be
SUMMARY:Herfstkampje 2025
DESCRIPTION:Het werd weer een heerlijk herfstkampje!
URL:https://amazonemmm.be/hetnetepaleis/event/herfstkampje-luisteren-naar-natuurvoor-kinderen-van-4-11jaar/
END:VEVENT
BEGIN:VEVENT
DTSTART;TZID=Europe/Brussels:20250811T083000
DTEND;TZID=Europe/Brussels:20250829T233000
DTSTAMP:20260424T060824
CREATED:20241223T212824Z
LAST-MODIFIED:20250828T204224Z
UID:15456-1754901000-1756510200@amazonemmm.be
SUMMARY:Kies 1\, 2 of 3 heerlijke zomerkampjes 6 à 7j -11/12 jaar en aparte (woens)dagjes tussen 11 - 29 augustus 2025!
DESCRIPTION:Hieronder kan je je kinderen + 6 jaar inschrijven voor Chee Chee Koelee\, dit kan per kind dus niet alle tegelijk.(Kleuters – 6 jaar kan je inschrijven bij Tita Hups Muziekrups onderaan.\nElke week een ander maar heerlijk speelkampje op het natuurdomein waar je vooral kan kiezen wat je graag doet en met wie je in een groepje zit! De begeleiding waaronder Ushi\, Hilde\, Wouter\, Willy e.a. bieden allerhande activiteiten aan\, bij elk kamp hebben ze andere leuke activiteiten! \n\nBij elk kampje zijn er keuze activiteiten\, vrij spelen in de natuur\, verhaaltjes vertellen\, tekenen\, knutselen\, muziek met zingen en dansen\, kampen bouwen\, kinderyoga\, diertjes zien en verzorgen\, instrumentjes timmeren\, sport & spel\, tuinwerk met de schop en kruiwagen…kies maar! De go cart of fiets staat klaar maar als jullie het wensen doen we ook en trektocht!\nDuidelijke afspraken met de kinderen\, zonder schools te zijn\, kinderen kiezen doorgaans zelf bij wie ze in een groepje zitten\, kan verschillen per activiteit! \nKleuters kunnen niet bij de oudere broers of zussen. Oudere kinderen mogen wel bij de kleutergroep aansluiten als ze dat leuk vinden of een kleutertje willen bijstaan!\n\n\nBeperkt aantal!\nZijn de appelen of druifjes rijp\, dan smullen we er lekker van!\nLeuk slotmoment voor alle ouders\, grootouders telkens op de laatste kampdag vanaf 15u45\nFiscaal attest beschikbaar! Dit wordt meegegeven tijdens het kamp.\nFormulier vh Ziekenfonds voor kampvergoeding kan je ons goed ingevuld late ondertekenen tijdens het kamp
URL:https://amazonemmm.be/hetnetepaleis/event/chee-ma-11-di-12-woe-13-do14-augustus-2025-speelkamp-met-circus-specials/
END:VEVENT
BEGIN:VEVENT
DTSTART;TZID=Europe/Brussels:20250811T080000
DTEND;TZID=Europe/Brussels:20250827T170000
DTSTAMP:20260424T060824
CREATED:20241223T220902Z
LAST-MODIFIED:20250816T160115Z
UID:15466-1754899200-1756314000@amazonemmm.be
SUMMARY:TITA! HUPS! MUZIEKRUPS! Kies hieronder 1 of meer ZOMERkampjes voor KLEUTERS +3 jaar!
DESCRIPTION:ZOMER: Nieuw: Drie en vierdaagse kampjes telkens 09u30-16u00 met opvang tussen 08u30-17u00. \n– Maximum 12 kleuters in een groepje\n– Je kind is zindelijk en klaar om een dagje mee te komen spelen\, 3 tot ongeveer 6 jaar bij aanvang vh kamp\nHeerlijk kleuterkampje met kleine spelletjes\, liedjes\, natuurbeleving\, diertjes!\, knutsel- en tekenplezier\, verkleden en shminken voor elk wat wils! In te schrijven per kind 
URL:https://amazonemmm.be/hetnetepaleis/event/tita-hups-muziekrups/
END:VEVENT
BEGIN:VEVENT
DTSTART;TZID=Europe/Brussels:20250716T000000
DTEND;TZID=Europe/Brussels:20250814T000000
DTSTAMP:20260424T060824
CREATED:20250716T212119Z
LAST-MODIFIED:20250815T163621Z
UID:16596-1752624000-1755129600@amazonemmm.be
SUMMARY:Do 14 augustus 16u00 MMM Zomerbar
DESCRIPTION:Donderdag 14 augustus  2025 \n Welkom met de hele familie vanaf 16u00 in de  binnentuin en tuinen! \nGratis toegang 16u00-20u00 MMM ZOMERBAR !\nWandelen met Alpaca’s schminkstand\, speelbos\, – weide\, enz \n. \n  \n  \n 
URL:https://amazonemmm.be/hetnetepaleis/event/donderdag-14-augustus-mmm-zomerbar-en-of-try-out-nele-bauwens/
END:VEVENT
BEGIN:VEVENT
DTSTART;TZID=Europe/Brussels:20250409T093000
DTEND;TZID=Europe/Brussels:20250503T080000
DTSTAMP:20260424T060824
CREATED:20250222T174747Z
LAST-MODIFIED:20250502T115834Z
UID:15771-1744191000-1746259200@amazonemmm.be
SUMMARY:MMM in MEI op 1 en 2 MEI 2025
DESCRIPTION:Fijn als je voor ALL IN kiest! Dan geniet je korting en bouw je samen een onvergetelijke tweedaagse op. Je kan ook apart reserveren zoals maaltijden e.a. zie programma.\nJe kan hieronder voor verschillende personen inschrijven.  (Het formulier dient infeite voor kinderkampjes) Na je online afrekenen ontvang je een mail van Google. Kijk voor je vertrek naar de “Praktische info”.
URL:https://amazonemmm.be/hetnetepaleis/event/mmm-in-mei-op-1-en-2-mei/
END:VEVENT
END:VCALENDAR